BEGIN:VCALENDAR
VERSION:2.0
PRODID:-//Aargauischer Kleintierzüchter Verband - ECPv6.3.6//NONSGML v1.0//EN
CALSCALE:GREGORIAN
METHOD:PUBLISH
X-ORIGINAL-URL:https://akv-kleintiere.ch
X-WR-CALDESC:Veranstaltungen für Aargauischer Kleintierzüchter Verband
REFRESH-INTERVAL;VALUE=DURATION:PT1H
X-Robots-Tag:noindex
X-PUBLISHED-TTL:PT1H
BEGIN:VTIMEZONE
TZID:UTC
BEGIN:STANDARD
TZOFFSETFROM:+0000
TZOFFSETTO:+0000
TZNAME:UTC
DTSTART:20260101T000000
END:STANDARD
END:VTIMEZONE
BEGIN:VEVENT
DTSTART;VALUE=DATE:20260919
DTEND;VALUE=DATE:20260920
DTSTAMP:20260419T174521
CREATED:20260131T104542Z
LAST-MODIFIED:20260131T104542Z
UID:1869-1789776000-1789862399@akv-kleintiere.ch
SUMMARY:Obfrauen-/Obmännerweiterbildung AKV / KVW / KZVBB / VSK
DESCRIPTION:
URL:https://akv-kleintiere.ch/event/obfrauen-obmaennerweiterbildung-akv-kvw-kzvbb-vsk/
LOCATION:Region Aargau
CATEGORIES:Veranstaltung
ATTACH;FMTTYPE=image/jpeg:https://akv-kleintiere.ch/wp-content/uploads/2025/09/20250920_094136-scaled.jpg
END:VEVENT
END:VCALENDAR